BEGIN:VCALENDAR
VERSION:2.0
PRODID:-// - ECPv6.3.5//NONSGML v1.0//EN
CALSCALE:GREGORIAN
METHOD:PUBLISH
X-ORIGINAL-URL:https://oldbike.ro
X-WR-CALDESC:Events for 
REFRESH-INTERVAL;VALUE=DURATION:PT1H
X-Robots-Tag:noindex
X-PUBLISHED-TTL:PT1H
BEGIN:VTIMEZONE
TZID:UTC
BEGIN:STANDARD
TZOFFSETFROM:+0000
TZOFFSETTO:+0000
TZNAME:UTC
DTSTART:20240101T000000
END:STANDARD
END:VTIMEZONE
BEGIN:VEVENT
DTSTART;TZID=UTC:20240518T150000
DTEND;TZID=UTC:20240518T170000
DTSTAMP:20260423T171819
CREATED:20231105T090417Z
LAST-MODIFIED:20240509T091701Z
UID:44946-1716044400-1716051600@oldbike.ro
SUMMARY:Live your Fairytale - Ladies only!
DESCRIPTION:Escape into a magical realm where fairytales come to life. Join us for an enchanting outdoor event filled with whimsical wonders\, where you can immerse yourself in a world of fairytales. \nAs you step into this enchanting outdoor setting\, let your imagination soar and embrace the beauty of nature’s wonders. The air is filled with the scent of blooming flowers\, and the gentle breeze carries the melodies of birdsong\, creating a truly ethereal atmosphere. \nWhether it’s a majestic castle\, a whimsical forest\, or a graceful fairy\, you’ll be guided step-by-step to bring your chosen artwork to life. \nThis outdoor event is designed to transport you into a world of fantasy and wonder. Surround yourself with like-minded individuals who share your love for fairytales and the beauty of nature. Engage in delightful conversations\, laughter\, and the joy of creating art in this enchanting setting. \nSo\, come and join us for “Live Your Fairytale” – an extraordinary outdoor event that invites you to step into a world of enchantment. Let your imagination run wild\, as you paint\, laugh\, and create cherished memories in this fairytale-inspired atmosphere.
URL:https://oldbike.ro/event/modern-jazz-masterclass/
LOCATION:Stefi Skill Art\, Strada Gheorghe Lazăr 9\,\, Timișoara\, Timis\, 300081\, Romania
CATEGORIES:Ladies only,Masterclass
ATTACH;FMTTYPE=image/jpeg:https://oldbike.ro/wp-content/uploads/2023/11/4.jpg
ORGANIZER;CN="Stefania Popescu":MAILTO:stefiskill@gmail.com
END:VEVENT
END:VCALENDAR