BEGIN:VCALENDAR
VERSION:2.0
PRODID:-// - ECPv6.3.5//NONSGML v1.0//EN
CALSCALE:GREGORIAN
METHOD:PUBLISH
X-ORIGINAL-URL:https://oldbike.ro
X-WR-CALDESC:Events for 
REFRESH-INTERVAL;VALUE=DURATION:PT1H
X-Robots-Tag:noindex
X-PUBLISHED-TTL:PT1H
BEGIN:VTIMEZONE
TZID:UTC
BEGIN:STANDARD
TZOFFSETFROM:+0000
TZOFFSETTO:+0000
TZNAME:UTC
DTSTART:20240101T000000
END:STANDARD
END:VTIMEZONE
BEGIN:VEVENT
DTSTART;TZID=UTC:20240516T180000
DTEND;TZID=UTC:20240516T200000
DTSTAMP:20260421T044533
CREATED:20231105T091057Z
LAST-MODIFIED:20240508T094149Z
UID:44955-1715882400-1715889600@oldbike.ro
SUMMARY:Let’s go Camping!
DESCRIPTION:Discover the beauty of nature and immerse yourself in the adventure of camping at our special event\, “Let’s Go Camping”. On this magical evening\, you will be transported to the heart of a picturesque landscape\, in a camping site surrounded by wild nature. \nThe painting you will create will depict a campfire\, radiating warmth and light in the darkness of the night. But this event is not just about painting\, it’s also about fulfilling your dreams before reaching your destination. You will be inspired to imagine what it would be like to enjoy outdoor activities\, explore the forests\, and connect with nature in a unique way. \nThrough your brush\, you will be able to create your own corner of paradise amidst nature. Each stroke of color will bring memories and aspirations to life\, transforming the blank canvas into a vibrant and adventurous landscape. \nSo\, get ready to fulfill your dreams and enjoy an unforgettable experience at the “Let’s Go Camping” event. Surrounded by friends and the beauty of nature\, you will discover that painting can be a wonderful way to connect with the world around you and express your creativity in a unique and personal way. \nJoin us and let your imagination soar in the midst of this enchanting landscape\, where dreams become reality through the art of painting.
URL:https://oldbike.ro/event/jazz-funk-dance-class/
LOCATION:Stefi Skill Art\, Strada Gheorghe Lazăr 9\,\, Timișoara\, Timis\, 300081\, Romania
CATEGORIES:Acrylic Painting on Canvas,Adults,Masterclass
ATTACH;FMTTYPE=image/jpeg:https://oldbike.ro/wp-content/uploads/2023/11/1.jpg
ORGANIZER;CN="Stefania Popescu":MAILTO:stefiskill@gmail.com
END:VEVENT
END:VCALENDAR